BEGIN:VCALENDAR
VERSION:2.0
PRODID:-//Hotel De Wilde Kriek - ECPv4.6.17//NONSGML v1.0//EN
CALSCALE:GREGORIAN
METHOD:PUBLISH
X-WR-CALNAME:Hotel De Wilde Kriek
X-ORIGINAL-URL:https://www.dewildekriek.nl
X-WR-CALDESC:Events for Hotel De Wilde Kriek
BEGIN:VEVENT
DTSTART;TZID=UTC+0:20170819T080000
DTEND;TZID=UTC+0:20170820T170000
DTSTAMP:20260421T205315
CREATED:20170414T144632Z
LAST-MODIFIED:20170802T084307Z
UID:5019-1503129600-1503248400@www.dewildekriek.nl
SUMMARY:Zeepkistenrace 2017 - Valkenburg a/d Geul
DESCRIPTION:Red Bull geeft je vleugels of blijf je toch liever wat dichter bij moeder aarde? \nNou dat kan want op zaterdag 19 augustus staat het Limburgse Valkenburg compleet op z’n kop met de Red Bull Zeepkistenrace. Iedereen kan meedoen om zo creatief & gek mogelijk een zeepkist op wielen te bouwen om zo de beroemde Cauberg af te suizen. Tja… in het Engels wordt het “The Soap Box Race” genoemd. Grappig! Dan klinkt de Nederlandse benaming toch beter. \nDus…Wil jij met jouw zelfgebouwde\, creatieve zeepkist over de finish vliegen? Dan kan je vóór 31 mei bij Red Bull aanmelden \nEn…zoek je een overnachting? Boek dan bij Hotel de Karsteboom\, want dan kan je alvast oefenen en bij ons de berg afgaan. \n
URL:https://www.dewildekriek.nl/event/zeepkistenrace-2017-valkenburg-ad-geul/
END:VEVENT
END:VCALENDAR