BEGIN:VCALENDAR
VERSION:2.0
PRODID:-//Hotel De Wilde Kriek - ECPv4.6.17//NONSGML v1.0//EN
CALSCALE:GREGORIAN
METHOD:PUBLISH
X-WR-CALNAME:Hotel De Wilde Kriek
X-ORIGINAL-URL:https://www.dewildekriek.nl
X-WR-CALDESC:Events for Hotel De Wilde Kriek
BEGIN:VEVENT
DTSTART;VALUE=DATE:20170604
DTEND;VALUE=DATE:20170605
DTSTAMP:20260422T093944
CREATED:20170125T123630Z
LAST-MODIFIED:20170505T124250Z
UID:4958-1496534400-1496620799@www.dewildekriek.nl
SUMMARY:Wielerronde van Limburg 4 Juni 2017
DESCRIPTION:De Wielerronde van Limburg is een wielerwedstrijd met een doortocht door Valkenburg op 4 juni.Deze ronde is de oudste provinciale klassieker en een van de oudste van Nederland en wordt op de zondag van het eerste weekend van juni gereden. Boek nu uw verblijf bij Hotel De Karsteboom \n
URL:https://www.dewildekriek.nl/event/wielerronde-limburg-4-juni-2017/
END:VEVENT
END:VCALENDAR