BEGIN:VCALENDAR
VERSION:2.0
PRODID:-//Hotel De Wilde Kriek - ECPv4.6.17//NONSGML v1.0//EN
CALSCALE:GREGORIAN
METHOD:PUBLISH
X-WR-CALNAME:Hotel De Wilde Kriek
X-ORIGINAL-URL:https://www.dewildekriek.nl
X-WR-CALDESC:Events for Hotel De Wilde Kriek
BEGIN:VEVENT
DTSTART;TZID=UTC+0:20170811T150000
DTEND;TZID=UTC+0:20170813T210000
DTSTAMP:20260421T203905
CREATED:20170802T090540Z
LAST-MODIFIED:20170802T090721Z
UID:5088-1502463600-1502658000@www.dewildekriek.nl
SUMMARY:Wheels 'n Bites Valkenburg 11-13 augustus
DESCRIPTION:Wheels ’n Bites is een van de bekendste food truck festivals van Zuid Limburg en wordt gehouden in Valkenburg a/d geul van 11-13 augustus.\nKom genieten van een culinaire parade met een bonte verzameling van stoere en originele food trucks en\nde meest creatieve stands. Wheels ’n Bites staat voor goede smaak\, lekker bourgondisch eten\, muziek\, straattheater en nog veel meer.\nWheels & Bites Valkenburg is gratis. Voor meer informatie kijk op Wheels ’n Bites Valkenburg: \n
URL:https://www.dewildekriek.nl/event/wheels-n-bites-valkenburg-11-13-augustus/
END:VEVENT
END:VCALENDAR