BEGIN:VCALENDAR
VERSION:2.0
PRODID:-//Hotel De Wilde Kriek - ECPv4.6.17//NONSGML v1.0//EN
CALSCALE:GREGORIAN
METHOD:PUBLISH
X-WR-CALNAME:Hotel De Wilde Kriek
X-ORIGINAL-URL:https://www.dewildekriek.nl
X-WR-CALDESC:Events for Hotel De Wilde Kriek
BEGIN:VEVENT
DTSTART;TZID=UTC+0:20170331T080000
DTEND;TZID=UTC+0:20170402T170000
DTSTAMP:20260422T154021
CREATED:20161109T142715Z
LAST-MODIFIED:20170108T131517Z
UID:4802-1490947200-1491152400@www.dewildekriek.nl
SUMMARY:VOLTA Limburg Classic 2017
DESCRIPTION:De Volta Limburg Classic behoort tot de zwaarste klassiekers in de Nederlandse wielrenner wereld en zal komend jaar voor de 44e keer verreden worden en wel op zaterdag 1 april 2017. De organisatie en kwaliteit van de wedstrijd heeft zich de afgelopen jaren telkens bewezen en de internationale karakter van de wedstrijd is in de loop der jaren sterk toegenomen. Voor 2017 is er speciaal een dameswedstrijd toegevoegd\, dus dat brengt nog wat extra spanning in de dag. De start en finish is in Eijsden. Het parcours loopt vervolgens van Eijsden richting Maastricht\, Cadier en Keer\, Margraten\, Gulpen\, Mechelen\, Epen en Slenaken om weer terug te keren naar Eijsden. \nMeer informatie over Volta Limburg Classic \n
URL:https://www.dewildekriek.nl/event/volta-limburg-classic-2017/
END:VEVENT
END:VCALENDAR