BEGIN:VCALENDAR
VERSION:2.0
PRODID:-//Hotel De Wilde Kriek - ECPv4.6.17//NONSGML v1.0//EN
CALSCALE:GREGORIAN
METHOD:PUBLISH
X-WR-CALNAME:Hotel De Wilde Kriek
X-ORIGINAL-URL:https://www.dewildekriek.nl
X-WR-CALDESC:Events for Hotel De Wilde Kriek
BEGIN:VEVENT
DTSTART;TZID=UTC+0:20161030T140000
DTEND;TZID=UTC+0:20161030T215900
DTSTAMP:20260422T184808
CREATED:20161008T124458Z
LAST-MODIFIED:20161120T153752Z
UID:4645-1477836000-1477864740@www.dewildekriek.nl
SUMMARY:Valkenburgs Bokbierfestival
DESCRIPTION:Bokbierliefhebbers zijn op zondag 30 oktober welkom om van de lekkerste bokbieren te genieten. In de cafe’s en de vele bokbier kraampjes kan men meer dan 20 soorten bestaande en nieuwe soorten bokbier proeven. Zoekt u een overnachting? Dat kan bij Hotel de Karsteboom. \n  \n
URL:https://www.dewildekriek.nl/event/test/
ATTACH;FMTTYPE=image/jpeg:https://www.dewildekriek.nl/wp-content/uploads/2016/10/logo-valkenburgsebokkenweken.jpg
END:VEVENT
END:VCALENDAR