BEGIN:VCALENDAR
VERSION:2.0
PRODID:-//Hotel De Wilde Kriek - ECPv4.6.17//NONSGML v1.0//EN
CALSCALE:GREGORIAN
METHOD:PUBLISH
X-WR-CALNAME:Hotel De Wilde Kriek
X-ORIGINAL-URL:https://www.dewildekriek.nl
X-WR-CALDESC:Events for Hotel De Wilde Kriek
BEGIN:VEVENT
DTSTART;TZID=UTC+0:20170609T080000
DTEND;TZID=UTC+0:20170610T200000
DTSTAMP:20260422T031928
CREATED:20170125T125118Z
LAST-MODIFIED:20170125T125118Z
UID:4962-1496995200-1497124800@www.dewildekriek.nl
SUMMARY:Limburgsmooiste Fietsevenement 9-10 juni 2017
DESCRIPTION:Lekker er even tussenuit? Kom heerlijk genieten en fietsen in Zuid Limburg bij Limburgsmooiste fietsevenement op 9-10 juni 2017. Boek uw verblijf bij Hotel De Karsteboom. \n
URL:https://www.dewildekriek.nl/event/limburgsmooiste-fietsevenement-9-10-juni-2017/
END:VEVENT
END:VCALENDAR