BEGIN:VCALENDAR
VERSION:2.0
PRODID:-//Hotel De Wilde Kriek - ECPv4.6.17//NONSGML v1.0//EN
CALSCALE:GREGORIAN
METHOD:PUBLISH
X-WR-CALNAME:Hotel De Wilde Kriek
X-ORIGINAL-URL:https://www.dewildekriek.nl
X-WR-CALDESC:Events for Hotel De Wilde Kriek
BEGIN:VEVENT
DTSTART;VALUE=DATE:20240628
DTEND;VALUE=DATE:20240630
DTSTAMP:20260421T132321
CREATED:20240202T131255Z
LAST-MODIFIED:20240214T140435Z
UID:5435-1719532800-1719705599@www.dewildekriek.nl
SUMMARY:Hotel Eroica Valkenburg 2024 - Hotel de Wilde Kriek
DESCRIPTION:Eroica Limburg 2024 is een 2-daagse retro fiets- en familie feest en wordt dit jaar in het weekend van 28-29 juni 2024 voor de 8ste keer gehouden. Het is een evenement met veel authenticiteit\, ambiance en vooral fietsen door het Limburgs landschap in retro-fietskleding en niet te vergeten jouw eigen vintage racefiets. Bijzonder is dat dit jaar Eroica ook een ode aan ‘de Tour de France Femmes’ brengt. Boek alvast een Hotel arrangement Eroica Valkenburg 2024 bij Hotel de Wilde Kriek #hoteldewildekriek. \nDeelnemers kiezen uit drie verschillende afstanden zonder tijdregistratie: 60 kilometer\, 100 kilometer en 160 kilometer. Er worden drie schitterende en unieke routes verreden. Niet alleen de verharde bekende wegen maar ook onverharde paden door de mooiste regio van de Benelux zijn onderdeel van de route. Alles uiteraard in de bijzondere historische Eroica stijl en sfeer. \nRegels: Alle deelnemers rijden op een fiets die voor 1987 is geproduceerd en daarbij mag een retro- outfit niet ontbreken. De vele kleurrijke shirts uit de vroege jaren toveren het Limburgs landschap om tot de meest kleurrijke retro area van de Benelux. \nDe start- en finish locatie is in Geulhem\, een paar kilometer buiten Valkenburg. \nOp de nostalgische stopplaatsen worden de deelnemers verrast. Lokale drankjes en streekgerechten leiden bij de deelnemers tot verrassingen en zullen een glimlach op hun gezicht toveren. \nStarttijden:\n160 km 7.00 – 8.30 uur\n100 km 8.00 – 9.30 uur\n60 km 9.00 – 10:30 uur \nOphalen startbescheiden:\nVrijdag 17.00 tot 21.00 uur\nZaterdag 6.30 tot 10.00 uur \nMeer informatie over andere Events? \n
URL:https://www.dewildekriek.nl/event/hotel-eroica-valkenburg-2024-hotel-de-wilde-kriek/
END:VEVENT
END:VCALENDAR