BEGIN:VCALENDAR
VERSION:2.0
PRODID:-//Hotel De Wilde Kriek - ECPv4.6.17//NONSGML v1.0//EN
CALSCALE:GREGORIAN
METHOD:PUBLISH
X-WR-CALNAME:Hotel De Wilde Kriek
X-ORIGINAL-URL:https://www.dewildekriek.nl
X-WR-CALDESC:Events for Hotel De Wilde Kriek
BEGIN:VEVENT
DTSTART;TZID=UTC+0:20170810T080000
DTEND;TZID=UTC+0:20170813T170000
DTSTAMP:20260421T180217
CREATED:20170125T161958Z
LAST-MODIFIED:20170810T142346Z
UID:4970-1502352000-1502643600@www.dewildekriek.nl
SUMMARY:Heuvelland4daagse wandelevenement 2017- vooruitblik 2018
DESCRIPTION:Op 10-13 augustus kunt u weer meedoen aan het jaarlijks terugkerende wandel evenement namelijk de Heuvelland4daagse die voor de 30st keer gehouden wordt.  Afstanden die er gelopen kunnen worden variëren van 7\,14\, 21\, 28 en 42 kilometer. Elke dag worden de wandelaars muzikaal onthaald en ontvangen zij de traditionele roos voor de geleverde prestatie. Met de start en eind punt in Berg & Terblijt verkiezen vele wandelaars om hun verblijf in Valkenburg te boeken. Zo ook de gasten van Hotel de Karsteboom. \nOp 10 augustus begint om 20:30 uur de opening door de de voorzitter van de Stichting Wandel4daagse Vilt-Valkenburg Jo Eijkenboom gevolgd door een toespraak door burgemeester Drs. Martin Eurlings (Valkenburg a/d Geul). \nNaast een Limburgs Volkslied met een vlaggen parade wordt de 1st avond vervolgd met een wervelende show van de theater groep “Percossa”\,\ndie een mix van slagwerk hebben verwerkt in hun theatershow. Aansluitend treedt een befaamd Spaans Dance Duo op met een opzwepende dansshow vol passie en acrobatiek. Vervolgens zal DJ Lennard Frissen de opening feestelijk afsluiten. \nOp het terrein zorgen de diverse BBQ en drink- en eet buffetten voor allerlei lekkernijen en hebben de kids veel vermaakt met de aanwezige springkussens en clowns ( ballon figuren en de schmink-clown). \nVooruitblik 2018: De Heuvelland4daagse 2018 wordt gehouden van donderdag 9 tot zondag 12 augustus 2018. \n
URL:https://www.dewildekriek.nl/event/heuvelland4daagse-wandelevenement-2017/
END:VEVENT
END:VCALENDAR