BEGIN:VCALENDAR
VERSION:2.0
PRODID:-//Hotel De Wilde Kriek - ECPv4.6.17//NONSGML v1.0//EN
CALSCALE:GREGORIAN
METHOD:PUBLISH
X-WR-CALNAME:Hotel De Wilde Kriek
X-ORIGINAL-URL:https://www.dewildekriek.nl
X-WR-CALDESC:Events for Hotel De Wilde Kriek
BEGIN:VEVENT
DTSTART;TZID=UTC+0:20170630T120000
DTEND;TZID=UTC+0:20170702T230000
DTSTAMP:20260421T205132
CREATED:20170125T132237Z
LAST-MODIFIED:20170610T132254Z
UID:4966-1498824000-1499036400@www.dewildekriek.nl
SUMMARY:Eroica Limburg Valkenburg 2017
DESCRIPTION:Eroica Limburg is een 3-daagse retro fiets- en familie feest met veel authenticiteit\, ambiance en vooral fietsen door het Limburgs landschap. Een speciale delegatie uit Valkenburg is afgelopen jaar speciaal naar Italië gereisd om ideeën op te doen voor Eroica Limburg die van 30 juni -zondag 2 juli 2017 voor de 2de keer gehouden wordt. \n
URL:https://www.dewildekriek.nl/event/eroica-limburg-valkenburg-2017/
END:VEVENT
END:VCALENDAR