BEGIN:VCALENDAR
VERSION:2.0
PRODID:-//Hotel De Wilde Kriek - ECPv4.6.17//NONSGML v1.0//EN
CALSCALE:GREGORIAN
METHOD:PUBLISH
X-WR-CALNAME:Hotel De Wilde Kriek
X-ORIGINAL-URL:https://www.dewildekriek.nl
X-WR-CALDESC:Events for Hotel De Wilde Kriek
BEGIN:VEVENT
DTSTART;VALUE=DATE:20170624
DTEND;VALUE=DATE:20170625
DTSTAMP:20260421T221456
CREATED:20170125T130602Z
LAST-MODIFIED:20170610T132333Z
UID:4964-1498262400-1498348799@www.dewildekriek.nl
SUMMARY:CaveManRun Valkenburg 24 juni 2017
DESCRIPTION:Ben je sportief\, heb je conditie en houd je van hardlopen? Dan wacht er een uitdaging voor je en dat wel in de grotten van Valkenburg. Doe namelijk mee aan de Cavemanrun op 24 juni 2017. En…Wil je fris-en-fruitig aan de start staan en daarna lekker genieten van Bourgondisch Valkenburg? Boek dan – zoals velen voor u – een overnachting bij Hotel de Karsteboom. \n
URL:https://www.dewildekriek.nl/event/cavemanrun-valkenburg-24-juni-2017/
END:VEVENT
END:VCALENDAR