BEGIN:VCALENDAR
VERSION:2.0
PRODID:-//Hotel De Wilde Kriek - ECPv4.6.17//NONSGML v1.0//EN
CALSCALE:GREGORIAN
METHOD:PUBLISH
X-WR-CALNAME:Hotel De Wilde Kriek
X-ORIGINAL-URL:https://www.dewildekriek.nl
X-WR-CALDESC:Events for Hotel De Wilde Kriek
BEGIN:VEVENT
DTSTART;TZID=UTC+0:20170401T080000
DTEND;TZID=UTC+0:20170401T200000
DTSTAMP:20260422T140220
CREATED:20170321T175021Z
LAST-MODIFIED:20170321T175357Z
UID:4996-1491033600-1491076800@www.dewildekriek.nl
SUMMARY:Cauberg Trail Run 2017
DESCRIPTION:Doe mee aan de ultieme kuitenbijter – de Cauberg Trail Run in Gemeente Valkenburg aan de Geul op zaterdag 1 april 2017. De Cauberg Trail Run parcours is uitgezet door de prachtige natuurgebieden het Polferbos\, Bergse Heide\, Ambyer Heide en de Dellen. Tijdens deze wedstrijd voelt het alsof je in het buitenland bent. \nHet is weer wat anders dan vlakke landschappen\, duinen en windkracht 7. Oftewel een andere manier om je uithoudingsvermogen te testen. Inschrijven kan nog voor de 9km en 30 km. \nOvernachten kan natuurlijk bij Hotel de Karsteboom. \n
URL:https://www.dewildekriek.nl/event/cauberg-train-run-2017/
ATTACH;FMTTYPE=image/jpeg:https://www.dewildekriek.nl/wp-content/uploads/2017/03/valkenburg_cauberg_trail_run2017.jpg
END:VEVENT
END:VCALENDAR