BEGIN:VCALENDAR
VERSION:2.0
PRODID:-//Hotel De Wilde Kriek - ECPv4.6.17//NONSGML v1.0//EN
CALSCALE:GREGORIAN
METHOD:PUBLISH
X-WR-CALNAME:Hotel De Wilde Kriek
X-ORIGINAL-URL:https://www.dewildekriek.nl
X-WR-CALDESC:Events for Hotel De Wilde Kriek
BEGIN:VEVENT
DTSTART;TZID=UTC+0:20170414T100000
DTEND;TZID=UTC+0:20170416T230000
DTSTAMP:20260422T141224
CREATED:20170108T135616Z
LAST-MODIFIED:20170404T125355Z
UID:4929-1492164000-1492383600@www.dewildekriek.nl
SUMMARY:Amstel Gold Race - Valkenburg
DESCRIPTION:De bekendste Wielertocht in Zuid Limburg\, Valkenburg aan de Geul – de Amstel Gold Race – valt dit jaar tijdens het paasweekend 14-16 april 2017. Het wordt dus super druk en gezellig in Valkenburg en omgeving. En… wat leuk is om te melden is dat op zondag deze beroemde wielertocht ( de Profs) ook langs Hotel de Karsteboom gaat. Extra reden om bij ons een overnachting te boeken. \nEr zijn zes verschillende afstanden te fietsen variërend van 60 km\, 100 km\, 125 km\, 150 km\, 200 km tot 240 km. \nVoorlopige programma \nVrijdag 14 april 2017\, 12:00-22:00 uur:\nGelegenheid om startbescheiden op te halen bij de Amstel Gold Race Experience. \nZaterdag 15 april 2017\, 06:00-10:30 uur:\nGelegenheid om startbewijzen op te halen bij de Amstel Gold Race Experience. \nStarttijden\n06:30-09:00 uur: Start 240 km\n06:30-09:00 uur: Start 200 km\n07:00-11:00 uur: Start 150 km\n07:00-11:00 uur: Start 125 km\n07:00-11:00 uur: Start 100 km\n07:00-11:00 uur: Start 60 km \n
URL:https://www.dewildekriek.nl/event/amstel-gold-race-valkenburg/
END:VEVENT
END:VCALENDAR