BEGIN:VCALENDAR
VERSION:2.0
PRODID:-//Hotel De Wilde Kriek - ECPv4.6.17//NONSGML v1.0//EN
CALSCALE:GREGORIAN
METHOD:PUBLISH
X-WR-CALNAME:Hotel De Wilde Kriek
X-ORIGINAL-URL:https://www.dewildekriek.nl/en
X-WR-CALDESC:Events for Hotel De Wilde Kriek
BEGIN:VEVENT
DTSTART;TZID=UTC+0:20170331T080000
DTEND;TZID=UTC+0:20170402T170000
DTSTAMP:20260422T141204
CREATED:20161109T142715Z
LAST-MODIFIED:20170108T131517Z
UID:4802-1490947200-1491152400@www.dewildekriek.nl
SUMMARY:(Nederlands) VOLTA Limburg Classic 2017
DESCRIPTION:Sorry\, this entry is only available in Dutch. \n
URL:https://www.dewildekriek.nl/en/event/volta-limburg-classic-2017/
END:VEVENT
END:VCALENDAR