BEGIN:VCALENDAR
VERSION:2.0
PRODID:-//Hotel De Wilde Kriek - ECPv4.6.17//NONSGML v1.0//EN
CALSCALE:GREGORIAN
METHOD:PUBLISH
X-WR-CALNAME:Hotel De Wilde Kriek
X-ORIGINAL-URL:https://www.dewildekriek.nl/en
X-WR-CALDESC:Events for Hotel De Wilde Kriek
BEGIN:VEVENT
DTSTART;TZID=UTC+0:20170610T190000
DTEND;TZID=UTC+0:20170610T230000
DTSTAMP:20260422T030131
CREATED:20170108T134106Z
LAST-MODIFIED:20170410T202149Z
UID:4927-1497121200-1497135600@www.dewildekriek.nl
SUMMARY:(Nederlands) The Dutch Eagles in Valkenburg
DESCRIPTION:Sorry\, this entry is only available in Dutch. \n
URL:https://www.dewildekriek.nl/en/event/the-dutch-eagles-valkenburg/
END:VEVENT
END:VCALENDAR