BEGIN:VCALENDAR
VERSION:2.0
PRODID:-//Hotel De Wilde Kriek - ECPv4.6.17//NONSGML v1.0//EN
CALSCALE:GREGORIAN
METHOD:PUBLISH
X-WR-CALNAME:Hotel De Wilde Kriek
X-ORIGINAL-URL:https://www.dewildekriek.nl/en
X-WR-CALDESC:Events for Hotel De Wilde Kriek
BEGIN:VEVENT
DTSTART;VALUE=DATE:20240517
DTEND;VALUE=DATE:20240520
DTSTAMP:20260421T101637
CREATED:20240115T124833Z
LAST-MODIFIED:20240212T140348Z
UID:5338-1715904000-1716163199@www.dewildekriek.nl
SUMMARY:(Nederlands) Pop on Top Valkenburg 2024
DESCRIPTION:Sorry\, this entry is only available in Dutch. \n
URL:https://www.dewildekriek.nl/en/event/pop-on-top-valkenburg-2024/
END:VEVENT
END:VCALENDAR