BEGIN:VCALENDAR
VERSION:2.0
PRODID:-//Hotel De Wilde Kriek - ECPv4.6.17//NONSGML v1.0//EN
CALSCALE:GREGORIAN
METHOD:PUBLISH
X-WR-CALNAME:Hotel De Wilde Kriek
X-ORIGINAL-URL:https://www.dewildekriek.nl/en
X-WR-CALDESC:Events for Hotel De Wilde Kriek
BEGIN:VEVENT
DTSTART;TZID=UTC+0:20170526T120000
DTEND;TZID=UTC+0:20170527T230000
DTSTAMP:20260422T094130
CREATED:20170125T121049Z
LAST-MODIFIED:20170410T201001Z
UID:4954-1495800000-1495926000@www.dewildekriek.nl
SUMMARY:(Nederlands) Pop On Top Valkenburg 2017
DESCRIPTION:Sorry\, this entry is only available in Dutch. \n
URL:https://www.dewildekriek.nl/en/event/pop-on-top-valkenburg-2017/
END:VEVENT
END:VCALENDAR