BEGIN:VCALENDAR
VERSION:2.0
PRODID:-//Hotel De Wilde Kriek - ECPv4.6.17//NONSGML v1.0//EN
CALSCALE:GREGORIAN
METHOD:PUBLISH
X-WR-CALNAME:Hotel De Wilde Kriek
X-ORIGINAL-URL:https://www.dewildekriek.nl/en
X-WR-CALDESC:Events for Hotel De Wilde Kriek
BEGIN:VEVENT
DTSTART;TZID=UTC+0:20170606T080000
DTEND;TZID=UTC+0:20170609T180000
DTSTAMP:20260422T063139
CREATED:20170125T124524Z
LAST-MODIFIED:20170505T124419Z
UID:4960-1496736000-1497031200@www.dewildekriek.nl
SUMMARY:(Nederlands) Heuvelland Fiets 4 Daagse 6 – 9 juni 2017
DESCRIPTION:Sorry\, this entry is only available in Dutch. \n
URL:https://www.dewildekriek.nl/en/event/heuvelland-fiets-4-daagse-6-9-juni-2017/
END:VEVENT
END:VCALENDAR