BEGIN:VCALENDAR
VERSION:2.0
PRODID:-//Hotel De Wilde Kriek - ECPv4.6.17//NONSGML v1.0//EN
CALSCALE:GREGORIAN
METHOD:PUBLISH
X-WR-CALNAME:Hotel De Wilde Kriek
X-ORIGINAL-URL:https://www.dewildekriek.nl/en
X-WR-CALDESC:Events for Hotel De Wilde Kriek
BEGIN:VEVENT
DTSTART;TZID=UTC+0:20170824T180000
DTEND;TZID=UTC+0:20170827T230000
DTSTAMP:20260422T000320
CREATED:20170802T093503Z
LAST-MODIFIED:20170802T093503Z
UID:5091-1503597600-1503874800@www.dewildekriek.nl
SUMMARY:(Nederlands) Culinaire Preuvenemint Maastricht 24-27 augustus
DESCRIPTION:Sorry\, this entry is only available in Dutch. \n
URL:https://www.dewildekriek.nl/en/event/culinaire-preuvenemint-maastricht-24-27-augustus/
END:VEVENT
END:VCALENDAR