BEGIN:VCALENDAR
VERSION:2.0
PRODID:-//Hotel De Wilde Kriek - ECPv4.6.17//NONSGML v1.0//EN
CALSCALE:GREGORIAN
METHOD:PUBLISH
X-WR-CALNAME:Hotel De Wilde Kriek
X-ORIGINAL-URL:https://www.dewildekriek.nl/en
X-WR-CALDESC:Events for Hotel De Wilde Kriek
BEGIN:VEVENT
DTSTART;TZID=UTC+0:20170707T150000
DTEND;TZID=UTC+0:20170709T190000
DTSTAMP:20260421T205513
CREATED:20170125T153153Z
LAST-MODIFIED:20170125T153153Z
UID:4968-1499439600-1499626800@www.dewildekriek.nl
SUMMARY:(Nederlands) Corvette Fame Valkenburg 2017
DESCRIPTION:Sorry\, this entry is only available in Dutch. \n
URL:https://www.dewildekriek.nl/en/event/corvette-fame-valkenburg-2017/
END:VEVENT
END:VCALENDAR