BEGIN:VCALENDAR
VERSION:2.0
PRODID:-//Hotel De Wilde Kriek - ECPv4.6.17//NONSGML v1.0//EN
CALSCALE:GREGORIAN
METHOD:PUBLISH
X-WR-CALNAME:Hotel De Wilde Kriek
X-ORIGINAL-URL:https://www.dewildekriek.nl/en
X-WR-CALDESC:Events for Hotel De Wilde Kriek
BEGIN:VEVENT
DTSTART;VALUE=DATE:20170624
DTEND;VALUE=DATE:20170625
DTSTAMP:20260421T234449
CREATED:20170125T130602Z
LAST-MODIFIED:20170610T132333Z
UID:4964-1498262400-1498348799@www.dewildekriek.nl
SUMMARY:(Nederlands) CaveManRun Valkenburg 24 juni 2017
DESCRIPTION:Sorry\, this entry is only available in Dutch. \n
URL:https://www.dewildekriek.nl/en/event/cavemanrun-valkenburg-24-juni-2017/
END:VEVENT
END:VCALENDAR