BEGIN:VCALENDAR
VERSION:2.0
PRODID:-//Hotel De Wilde Kriek - ECPv4.6.17//NONSGML v1.0//EN
CALSCALE:GREGORIAN
METHOD:PUBLISH
X-WR-CALNAME:Hotel De Wilde Kriek
X-ORIGINAL-URL:https://www.dewildekriek.nl/en
X-WR-CALDESC:Events for Hotel De Wilde Kriek
BEGIN:VEVENT
DTSTART;TZID=UTC+0:20170401T080000
DTEND;TZID=UTC+0:20170401T200000
DTSTAMP:20260422T124255
CREATED:20170321T175021Z
LAST-MODIFIED:20170321T175357Z
UID:4996-1491033600-1491076800@www.dewildekriek.nl
SUMMARY:(Nederlands) Cauberg Trail Run 2017
DESCRIPTION:Sorry\, this entry is only available in Dutch. \n
URL:https://www.dewildekriek.nl/en/event/cauberg-train-run-2017/
ATTACH;FMTTYPE=image/jpeg:https://www.dewildekriek.nl/wp-content/uploads/2017/03/valkenburg_cauberg_trail_run2017.jpg
END:VEVENT
END:VCALENDAR