BEGIN:VCALENDAR
VERSION:2.0
PRODID:-//Hotel De Wilde Kriek - ECPv4.6.17//NONSGML v1.0//EN
CALSCALE:GREGORIAN
METHOD:PUBLISH
X-WR-CALNAME:Hotel De Wilde Kriek
X-ORIGINAL-URL:https://www.dewildekriek.nl/en
X-WR-CALDESC:Events for Hotel De Wilde Kriek
BEGIN:VEVENT
DTSTART;TZID=UTC+0:20170414T100000
DTEND;TZID=UTC+0:20170416T230000
DTSTAMP:20260422T112201
CREATED:20170108T135616Z
LAST-MODIFIED:20170404T125355Z
UID:4929-1492164000-1492383600@www.dewildekriek.nl
SUMMARY:(Nederlands) Amstel Gold Race - Valkenburg
DESCRIPTION:Sorry\, this entry is only available in Dutch. \n
URL:https://www.dewildekriek.nl/en/event/amstel-gold-race-valkenburg/
END:VEVENT
END:VCALENDAR